BEGIN:VCALENDAR
VERSION:2.0
PRODID:-//APEM - ECPv6.0.0.1//NONSGML v1.0//EN
CALSCALE:GREGORIAN
METHOD:PUBLISH
X-WR-CALNAME:APEM
X-ORIGINAL-URL:https://www.apemedias.fr
X-WR-CALDESC:Events for APEM
REFRESH-INTERVAL;VALUE=DURATION:PT1H
X-Robots-Tag:noindex
X-PUBLISHED-TTL:PT1H
BEGIN:VTIMEZONE
TZID:UTC
BEGIN:STANDARD
TZOFFSETFROM:+0000
TZOFFSETTO:+0000
TZNAME:UTC
DTSTART:20220101T000000
END:STANDARD
END:VTIMEZONE
BEGIN:VEVENT
DTSTART;TZID=UTC:20221003T080000
DTEND;TZID=UTC:20221009T183000
DTSTAMP:20260425T210527
CREATED:20220919T155709Z
LAST-MODIFIED:20220919T160059Z
UID:10941-1664784000-1665340200@www.apemedias.fr
SUMMARY:Prix bayeux
DESCRIPTION:Le prix Bayeux Calvados-Normandie des correspondants de guerre est un événement annuel destiné à rendre hommage aux journalistes qui exercent leur métier dans des conditions périlleuses pour permettre d’accéder à une information libre.
URL:https://www.apemedias.fr/evenement/prix-bayeux
END:VEVENT
END:VCALENDAR