BEGIN:VCALENDAR
VERSION:2.0
PRODID:-//APEM - ECPv6.0.0.1//NONSGML v1.0//EN
CALSCALE:GREGORIAN
METHOD:PUBLISH
X-WR-CALNAME:APEM
X-ORIGINAL-URL:https://www.apemedias.fr
X-WR-CALDESC:Events for APEM
REFRESH-INTERVAL;VALUE=DURATION:PT1H
X-Robots-Tag:noindex
X-PUBLISHED-TTL:PT1H
BEGIN:VTIMEZONE
TZID:UTC
BEGIN:STANDARD
TZOFFSETFROM:+0000
TZOFFSETTO:+0000
TZNAME:UTC
DTSTART:20250101T000000
END:STANDARD
END:VTIMEZONE
BEGIN:VEVENT
DTSTART;TZID=UTC:20250417T080000
DTEND;TZID=UTC:20250417T170000
DTSTAMP:20260423T201957
CREATED:20250417T140820Z
LAST-MODIFIED:20250417T140820Z
UID:11956-1744876800-1744909200@www.apemedias.fr
SUMMARY:Rencontres de l'APEM - 29 avril 2025
DESCRIPTION:Retrouvez nous pour les Rencontres de l’APEM\, à l’auditorium Les Echos-Le Parisien\, le 29 avril \nTemps scolaire 15-17h :\nInfluenceurs et Journalistes même combat ? avec Mamad @ImpactStory & 20Minutes \nTemps professionnel 18-20h + cocktail :\nQuelle valeur accorder à l’information ? + remise du prix APEM \nGRATUIT – SUR INSCRIPTION \n 
URL:https://www.apemedias.fr/evenement/rencontres-de-lapem-29-avril-2025
END:VEVENT
END:VCALENDAR